BEGIN:VCALENDAR
VERSION:2.0
PRODID:-//www.rmdc.net//NONSGML kigkonsult.se iCalcreator 2.30.10//
CALSCALE:GREGORIAN
METHOD:PUBLISH
UID:21b885d0-7f61-41c3-a823-c041a5cc1c4c
X-WR-CALDESC:
X-WR-RELCALID:18e30d94cd3e1651d88b0632d7a61b9e
X-WR-TIMEZONE:America/Denver
BEGIN:VTIMEZONE
TZID:America/Denver
BEGIN:STANDARD
TZNAME:MST
DTSTART:20191103T020000
TZOFFSETFROM:-0600
TZOFFSETTO:-0700
RDATE:20201101T020000
END:STANDARD
BEGIN:DAYLIGHT
TZNAME:MDT
DTSTART:20190310T020000
TZOFFSETFROM:-0700
TZOFFSETTO:-0600
RDATE:20200308T020000
RDATE:20210314T020000
END:DAYLIGHT
END:VTIMEZONE
BEGIN:VEVENT
UID:2caa848d-3d6b-4053-9cef-bab164fe94e7
DTSTAMP:20260424T070424Z
DESCRIPTION:
DTSTART;TZID=America/Denver:20200226T090000
DTEND;TZID=America/Denver:20200226T100000
LOCATION:Neighborhood Center
SUMMARY:Senior Advisory Council Meeting
END:VEVENT
END:VCALENDAR
