BEGIN:VCALENDAR
VERSION:2.0
PRODID:-//www.rmdc.net//NONSGML kigkonsult.se iCalcreator 2.30.10//
CALSCALE:GREGORIAN
METHOD:PUBLISH
UID:bd43121c-0aa5-4e82-98b1-40ec772a307b
X-WR-CALDESC:
X-WR-RELCALID:30b0cbd8e131d950d2b4a569a1c85086
X-WR-TIMEZONE:America/Denver
BEGIN:VTIMEZONE
TZID:America/Denver
BEGIN:STANDARD
TZNAME:MST
DTSTART:20191103T020000
TZOFFSETFROM:-0600
TZOFFSETTO:-0700
RDATE:20201101T020000
END:STANDARD
BEGIN:DAYLIGHT
TZNAME:MDT
DTSTART:20190310T020000
TZOFFSETFROM:-0700
TZOFFSETTO:-0600
RDATE:20200308T020000
RDATE:20210314T020000
END:DAYLIGHT
END:VTIMEZONE
BEGIN:VEVENT
UID:9c5787c6-2306-452d-844a-d7b46d9a2137
DTSTAMP:20260424T052040Z
DESCRIPTION:
DTSTART;TZID=America/Denver:20200301T130000
DTEND;TZID=America/Denver:20200301T140000
LOCATION:Neighborhood Center Card Room
SUMMARY:Pinochle
END:VEVENT
END:VCALENDAR
