BEGIN:VCALENDAR
VERSION:2.0
PRODID:-//www.rmdc.net//NONSGML kigkonsult.se iCalcreator 2.30.10//
CALSCALE:GREGORIAN
METHOD:PUBLISH
UID:44204b37-50f8-4642-8728-1a959f35e8eb
X-WR-CALDESC:
X-WR-RELCALID:03534d0d01f4cd89ba45199c3b0027bf
X-WR-TIMEZONE:America/Denver
BEGIN:VTIMEZONE
TZID:America/Denver
BEGIN:STANDARD
TZNAME:MST
DTSTART:20191103T020000
TZOFFSETFROM:-0600
TZOFFSETTO:-0700
RDATE:20201101T020000
END:STANDARD
BEGIN:DAYLIGHT
TZNAME:MDT
DTSTART:20190310T020000
TZOFFSETFROM:-0700
TZOFFSETTO:-0600
RDATE:20200308T020000
RDATE:20210314T020000
END:DAYLIGHT
END:VTIMEZONE
BEGIN:VEVENT
UID:515a0181-bdce-451c-8acc-7e293961463a
DTSTAMP:20260424T051724Z
DESCRIPTION:
DTSTART;TZID=America/Denver:20200302T100000
DTEND;TZID=America/Denver:20200302T110000
LOCATION:Neighborhood Center Card Room
SUMMARY:Self-Directed Exercise Class
END:VEVENT
END:VCALENDAR
