BEGIN:VCALENDAR
VERSION:2.0
PRODID:-//www.rmdc.net//NONSGML kigkonsult.se iCalcreator 2.30.10//
CALSCALE:GREGORIAN
METHOD:PUBLISH
UID:77372f38-f9fb-463c-b05d-ed27efa939c5
X-WR-CALDESC:
X-WR-RELCALID:4b3c98ca982ea0d6a1ddeeb22df0082d
X-WR-TIMEZONE:America/Denver
BEGIN:VTIMEZONE
TZID:America/Denver
BEGIN:STANDARD
TZNAME:MST
DTSTART:20191103T020000
TZOFFSETFROM:-0600
TZOFFSETTO:-0700
RDATE:20201101T020000
END:STANDARD
BEGIN:DAYLIGHT
TZNAME:MDT
DTSTART:20200308T020000
TZOFFSETFROM:-0700
TZOFFSETTO:-0600
RDATE:20210314T020000
END:DAYLIGHT
END:VTIMEZONE
BEGIN:VEVENT
UID:7082d8b9-ba3d-44e8-a145-50b2257b18a8
DTSTAMP:20260424T051810Z
DESCRIPTION:
DTSTART;TZID=America/Denver:20200316T100000
DTEND;TZID=America/Denver:20200316T110000
LOCATION:Neighborhood Center Card Room
SUMMARY:Self-Directed Exercise Class
END:VEVENT
END:VCALENDAR
