BEGIN:VCALENDAR
VERSION:2.0
PRODID:-//www.rmdc.net//NONSGML kigkonsult.se iCalcreator 2.30.10//
CALSCALE:GREGORIAN
METHOD:PUBLISH
UID:596e0681-8aa5-4c56-9b3a-17e5a9967ea5
X-WR-CALDESC:
X-WR-RELCALID:0748703530e7aaba31df517cebdda2d6
X-WR-TIMEZONE:America/Denver
BEGIN:VTIMEZONE
TZID:America/Denver
BEGIN:STANDARD
TZNAME:MST
DTSTART:20191103T020000
TZOFFSETFROM:-0600
TZOFFSETTO:-0700
RDATE:20201101T020000
END:STANDARD
BEGIN:DAYLIGHT
TZNAME:MDT
DTSTART:20200308T020000
TZOFFSETFROM:-0700
TZOFFSETTO:-0600
RDATE:20210314T020000
END:DAYLIGHT
END:VTIMEZONE
BEGIN:VEVENT
UID:3da058dd-4e27-4f73-82b9-7906348f7dcd
DTSTAMP:20260424T052406Z
DESCRIPTION:
DTSTART;TZID=America/Denver:20200319T093000
DTEND;TZID=America/Denver:20200319T110000
LOCATION:Neighborhood Center Dining Room
SUMMARY:Blood Pressure Clinic
END:VEVENT
END:VCALENDAR
