BEGIN:VCALENDAR
VERSION:2.0
PRODID:-//www.rmdc.net//NONSGML kigkonsult.se iCalcreator 2.30.10//
CALSCALE:GREGORIAN
METHOD:PUBLISH
UID:4682fb85-4a86-45e2-b142-535cd582a781
X-WR-CALDESC:
X-WR-RELCALID:b95e9e0516ca7c5f0a72cba2286d90d6
X-WR-TIMEZONE:America/Denver
BEGIN:VTIMEZONE
TZID:America/Denver
BEGIN:STANDARD
TZNAME:MST
DTSTART:20191103T020000
TZOFFSETFROM:-0600
TZOFFSETTO:-0700
RDATE:20201101T020000
END:STANDARD
BEGIN:DAYLIGHT
TZNAME:MDT
DTSTART:20200308T020000
TZOFFSETFROM:-0700
TZOFFSETTO:-0600
RDATE:20210314T020000
END:DAYLIGHT
END:VTIMEZONE
BEGIN:VEVENT
UID:aa48fbf5-3b2e-4d24-910e-4c294f5088cf
DTSTAMP:20260424T052213Z
DESCRIPTION:
DTSTART;TZID=America/Denver:20200320T123000
DTEND;TZID=America/Denver:20200320T133000
LOCATION:Neighborhood Center Parlor
SUMMARY:Sew & Tell
END:VEVENT
END:VCALENDAR
