BEGIN:VCALENDAR
VERSION:2.0
PRODID:-//www.rmdc.net//NONSGML kigkonsult.se iCalcreator 2.30.10//
CALSCALE:GREGORIAN
METHOD:PUBLISH
UID:461b4528-69be-4a44-96e5-ccd0141a96c6
X-WR-CALDESC:
X-WR-RELCALID:2e21f05ff3572ee62ce244c49cedc09c
X-WR-TIMEZONE:America/Denver
BEGIN:VTIMEZONE
TZID:America/Denver
BEGIN:STANDARD
TZNAME:MST
DTSTART:20191103T020000
TZOFFSETFROM:-0600
TZOFFSETTO:-0700
RDATE:20201101T020000
END:STANDARD
BEGIN:DAYLIGHT
TZNAME:MDT
DTSTART:20200308T020000
TZOFFSETFROM:-0700
TZOFFSETTO:-0600
RDATE:20210314T020000
END:DAYLIGHT
END:VTIMEZONE
BEGIN:VEVENT
UID:30edfd3f-f902-4aa2-8d68-1b843c9db527
DTSTAMP:20260424T051908Z
DESCRIPTION:
DTSTART;TZID=America/Denver:20200330T123000
DTEND;TZID=America/Denver:20200330T133000
LOCATION:Neighborhood Center Card Room
SUMMARY:Mahjong
END:VEVENT
END:VCALENDAR
