BEGIN:VCALENDAR
VERSION:2.0
PRODID:-//www.rmdc.net//NONSGML kigkonsult.se iCalcreator 2.30.10//
CALSCALE:GREGORIAN
METHOD:PUBLISH
UID:47674455-dcac-4afa-8ffa-1a24509c903f
X-WR-CALDESC:
X-WR-RELCALID:d1d0a0a61ae816cfa1b682cb9fbe9511
X-WR-TIMEZONE:America/Denver
BEGIN:VTIMEZONE
TZID:America/Denver
BEGIN:STANDARD
TZNAME:MST
DTSTART:20191103T020000
TZOFFSETFROM:-0600
TZOFFSETTO:-0700
RDATE:20201101T020000
END:STANDARD
BEGIN:DAYLIGHT
TZNAME:MDT
DTSTART:20200308T020000
TZOFFSETFROM:-0700
TZOFFSETTO:-0600
RDATE:20210314T020000
END:DAYLIGHT
END:VTIMEZONE
BEGIN:VEVENT
UID:23e53a95-54e2-438c-82c5-b0abc0c7e775
DTSTAMP:20260424T040250Z
DESCRIPTION:
DTSTART;TZID=America/Denver:20200421T130000
DTEND;TZID=America/Denver:20200421T150000
LOCATION:Neighborhood Center Card Room & Dance Floor
SUMMARY:Cards: Pinochle\, Bridge & Cribbage
END:VEVENT
END:VCALENDAR
