BEGIN:VCALENDAR
VERSION:2.0
PRODID:-//www.rmdc.net//NONSGML kigkonsult.se iCalcreator 2.30.10//
CALSCALE:GREGORIAN
METHOD:PUBLISH
UID:7db9fceb-12c5-4e62-9292-dd26c812588a
X-WR-CALDESC:
X-WR-RELCALID:1bc5d98bd89e5e8df2d12d28b7c26b89
X-WR-TIMEZONE:America/Denver
BEGIN:VTIMEZONE
TZID:America/Denver
BEGIN:STANDARD
TZNAME:MST
DTSTART:20191103T020000
TZOFFSETFROM:-0600
TZOFFSETTO:-0700
RDATE:20201101T020000
END:STANDARD
BEGIN:DAYLIGHT
TZNAME:MDT
DTSTART:20200308T020000
TZOFFSETFROM:-0700
TZOFFSETTO:-0600
RDATE:20210314T020000
END:DAYLIGHT
END:VTIMEZONE
BEGIN:VEVENT
UID:48469664-bc9f-46fd-a5a5-cfdffcb16a7c
DTSTAMP:20260424T035704Z
DESCRIPTION:
DTSTART;TZID=America/Denver:20200422T104500
DTEND;TZID=America/Denver:20200422T114500
LOCATION:Neighborhood Center Card Room
SUMMARY:Tai Chi Exercise Class
END:VEVENT
END:VCALENDAR
