BEGIN:VCALENDAR
VERSION:2.0
PRODID:-//www.rmdc.net//NONSGML kigkonsult.se iCalcreator 2.30.10//
CALSCALE:GREGORIAN
METHOD:PUBLISH
UID:846d114d-5f06-4079-9fb3-85339a1e9507
X-WR-CALDESC:
X-WR-RELCALID:0bb2e3f6e547c707a0ecd37fb70bdc27
X-WR-TIMEZONE:America/Denver
BEGIN:VTIMEZONE
TZID:America/Denver
BEGIN:STANDARD
TZNAME:MST
DTSTART:20191103T020000
TZOFFSETFROM:-0600
TZOFFSETTO:-0700
RDATE:20201101T020000
END:STANDARD
BEGIN:DAYLIGHT
TZNAME:MDT
DTSTART:20200308T020000
TZOFFSETFROM:-0700
TZOFFSETTO:-0600
RDATE:20210314T020000
END:DAYLIGHT
END:VTIMEZONE
BEGIN:VEVENT
UID:94675481-fa13-4807-9429-e9973ef198ce
DTSTAMP:20260424T035730Z
DESCRIPTION:
DTSTART;TZID=America/Denver:20200424T104500
DTEND;TZID=America/Denver:20200424T114500
LOCATION:Neighborhood Center Card Room
SUMMARY:Tai Chi exercise Class
END:VEVENT
END:VCALENDAR
