BEGIN:VCALENDAR
VERSION:2.0
PRODID:-//www.rmdc.net//NONSGML kigkonsult.se iCalcreator 2.30.10//
CALSCALE:GREGORIAN
METHOD:PUBLISH
UID:ffe44937-dae4-4cc7-8f9b-b2c65b1f378d
X-WR-CALDESC:
X-WR-RELCALID:e1986d504ae04c6c7b175d3a1162a060
X-WR-TIMEZONE:America/Denver
BEGIN:VTIMEZONE
TZID:America/Denver
BEGIN:STANDARD
TZNAME:MST
DTSTART:20191103T020000
TZOFFSETFROM:-0600
TZOFFSETTO:-0700
RDATE:20201101T020000
END:STANDARD
BEGIN:DAYLIGHT
TZNAME:MDT
DTSTART:20200308T020000
TZOFFSETFROM:-0700
TZOFFSETTO:-0600
RDATE:20210314T020000
END:DAYLIGHT
END:VTIMEZONE
BEGIN:VEVENT
UID:32c80644-8f31-4b9d-a225-fccf4b71cc85
DTSTAMP:20260424T024002Z
DESCRIPTION:
DTSTART;TZID=America/Denver:20200504T123000
DTEND;TZID=America/Denver:20200504T133000
LOCATION:Neighborhood Center Card Room
SUMMARY:Whist
END:VEVENT
END:VCALENDAR
