BEGIN:VCALENDAR
VERSION:2.0
PRODID:-//www.rmdc.net//NONSGML kigkonsult.se iCalcreator 2.30.10//
CALSCALE:GREGORIAN
METHOD:PUBLISH
UID:c3151aa7-58d7-4467-a675-d1b944348019
X-WR-CALDESC:
X-WR-RELCALID:8df411127a5408399a9cdb8aa3ab24ba
X-WR-TIMEZONE:America/Denver
BEGIN:VTIMEZONE
TZID:America/Denver
BEGIN:STANDARD
TZNAME:MST
DTSTART:20191103T020000
TZOFFSETFROM:-0600
TZOFFSETTO:-0700
RDATE:20201101T020000
END:STANDARD
BEGIN:DAYLIGHT
TZNAME:MDT
DTSTART:20200308T020000
TZOFFSETFROM:-0700
TZOFFSETTO:-0600
RDATE:20210314T020000
END:DAYLIGHT
END:VTIMEZONE
BEGIN:VEVENT
UID:53833282-15ae-4e20-bc16-65611b8b15e6
DTSTAMP:20260424T024430Z
DESCRIPTION:
DTSTART;TZID=America/Denver:20200507T130000
DTEND;TZID=America/Denver:20200507T140000
LOCATION:Neighborhood Center Dance Floor/Dining Room
SUMMARY:Helena Sketchers
END:VEVENT
END:VCALENDAR
