BEGIN:VCALENDAR
VERSION:2.0
PRODID:-//www.rmdc.net//NONSGML kigkonsult.se iCalcreator 2.30.10//
CALSCALE:GREGORIAN
METHOD:PUBLISH
UID:97e2c780-5f52-41b1-8cba-e97b21c33d74
X-WR-CALDESC:
X-WR-RELCALID:5c4c4dc79f1fc19b45406f2691d6069a
X-WR-TIMEZONE:America/Denver
BEGIN:VTIMEZONE
TZID:America/Denver
BEGIN:STANDARD
TZNAME:MST
DTSTART:20191103T020000
TZOFFSETFROM:-0600
TZOFFSETTO:-0700
RDATE:20201101T020000
RDATE:20211107T020000
END:STANDARD
BEGIN:DAYLIGHT
TZNAME:MDT
DTSTART:20200308T020000
TZOFFSETFROM:-0700
TZOFFSETTO:-0600
RDATE:20210314T020000
END:DAYLIGHT
END:VTIMEZONE
BEGIN:VEVENT
UID:3e6c4a21-acbc-4836-868f-3ae79a330057
DTSTAMP:20260424T023759Z
DESCRIPTION:
DTSTART;TZID=America/Denver:20200513T130000
DTEND;TZID=America/Denver:20200513T150000
LOCATION:Neighborhood Center
SUMMARY:BINGO
END:VEVENT
END:VCALENDAR
