BEGIN:VCALENDAR
VERSION:2.0
PRODID:-//www.rmdc.net//NONSGML kigkonsult.se iCalcreator 2.30.10//
CALSCALE:GREGORIAN
METHOD:PUBLISH
UID:dc6ff3f9-ff41-46f7-8c37-7351316d1a1e
X-WR-CALDESC:
X-WR-RELCALID:991ea90e9ac80fc43716816f0e212c1b
X-WR-TIMEZONE:America/Denver
BEGIN:VTIMEZONE
TZID:America/Denver
BEGIN:STANDARD
TZNAME:MST
DTSTART:20191103T020000
TZOFFSETFROM:-0600
TZOFFSETTO:-0700
RDATE:20201101T020000
RDATE:20211107T020000
END:STANDARD
BEGIN:DAYLIGHT
TZNAME:MDT
DTSTART:20200308T020000
TZOFFSETFROM:-0700
TZOFFSETTO:-0600
RDATE:20210314T020000
END:DAYLIGHT
END:VTIMEZONE
BEGIN:VEVENT
UID:7092cc73-3bcb-41b6-bf4e-4f000e25cfab
DTSTAMP:20260424T023931Z
DESCRIPTION:
DTSTART;TZID=America/Denver:20200525T123000
DTEND;TZID=America/Denver:20200525T133000
LOCATION:Neighborhood Center Card Room
SUMMARY:Mahjong
END:VEVENT
END:VCALENDAR
