BEGIN:VCALENDAR
VERSION:2.0
PRODID:-//www.rmdc.net//NONSGML kigkonsult.se iCalcreator 2.30.10//
CALSCALE:GREGORIAN
METHOD:PUBLISH
UID:b1b334c2-cf00-4e84-a0c6-ad9739b4ca6f
X-WR-CALDESC:
X-WR-RELCALID:5114d5cff33dbb8831b46f803b726650
X-WR-TIMEZONE:America/Denver
BEGIN:VTIMEZONE
TZID:America/Denver
BEGIN:STANDARD
TZNAME:MST
DTSTART:20191103T020000
TZOFFSETFROM:-0600
TZOFFSETTO:-0700
RDATE:20201101T020000
RDATE:20211107T020000
END:STANDARD
BEGIN:DAYLIGHT
TZNAME:MDT
DTSTART:20200308T020000
TZOFFSETFROM:-0700
TZOFFSETTO:-0600
RDATE:20210314T020000
END:DAYLIGHT
END:VTIMEZONE
BEGIN:VEVENT
UID:23e426ff-dde6-4d37-89e5-60c0609591a9
DTSTAMP:20260424T024002Z
DESCRIPTION:
DTSTART;TZID=America/Denver:20200525T123000
DTEND;TZID=America/Denver:20200525T133000
LOCATION:Neighborhood Center Card Room
SUMMARY:Whist
END:VEVENT
END:VCALENDAR
