BEGIN:VCALENDAR
VERSION:2.0
PRODID:-//www.rmdc.net//NONSGML kigkonsult.se iCalcreator 2.30.10//
CALSCALE:GREGORIAN
METHOD:PUBLISH
UID:8d0e405f-1924-42f1-988c-5065e5d7f59b
X-WR-CALDESC:
X-WR-RELCALID:3d309faf0e4626b62480fcf3014196ca
X-WR-TIMEZONE:America/Denver
BEGIN:VTIMEZONE
TZID:America/Denver
BEGIN:STANDARD
TZNAME:MST
DTSTART:20191103T020000
TZOFFSETFROM:-0600
TZOFFSETTO:-0700
RDATE:20201101T020000
RDATE:20211107T020000
END:STANDARD
BEGIN:DAYLIGHT
TZNAME:MDT
DTSTART:20200308T020000
TZOFFSETFROM:-0700
TZOFFSETTO:-0600
RDATE:20210314T020000
END:DAYLIGHT
END:VTIMEZONE
BEGIN:VEVENT
UID:42676340-cf5e-4126-9a85-f94580d239ba
DTSTAMP:20260424T024303Z
DESCRIPTION:
DTSTART;TZID=America/Denver:20200528T093000
DTEND;TZID=America/Denver:20200528T110000
LOCATION:Neighborhood Center Dining Room
SUMMARY:Blood Pressure Clinic
END:VEVENT
END:VCALENDAR
