BEGIN:VCALENDAR
VERSION:2.0
PRODID:-//www.rmdc.net//NONSGML kigkonsult.se iCalcreator 2.30.10//
CALSCALE:GREGORIAN
METHOD:PUBLISH
UID:89591b1b-4eb7-43a7-b31b-4884290661eb
X-WR-CALDESC:
X-WR-RELCALID:c30da140627fcb57e581742cc6898fe1
X-WR-TIMEZONE:America/Denver
BEGIN:VTIMEZONE
TZID:America/Denver
BEGIN:STANDARD
TZNAME:MST
DTSTART:20191103T020000
TZOFFSETFROM:-0600
TZOFFSETTO:-0700
RDATE:20201101T020000
RDATE:20211107T020000
END:STANDARD
BEGIN:DAYLIGHT
TZNAME:MDT
DTSTART:20200308T020000
TZOFFSETFROM:-0700
TZOFFSETTO:-0600
RDATE:20210314T020000
END:DAYLIGHT
END:VTIMEZONE
BEGIN:VEVENT
UID:c1607093-c9e2-4b87-8d8a-97f1520a5a02
DTSTAMP:20260424T012206Z
DESCRIPTION:
DTSTART;TZID=America/Denver:20200601T123000
DTEND;TZID=America/Denver:20200601T133000
LOCATION:Neighborhood Center Card Room
SUMMARY:Mahjong
END:VEVENT
END:VCALENDAR
