BEGIN:VCALENDAR
VERSION:2.0
PRODID:-//www.rmdc.net//NONSGML kigkonsult.se iCalcreator 2.30.10//
CALSCALE:GREGORIAN
METHOD:PUBLISH
UID:f34cfd06-bf39-44ec-a713-85dadc502298
X-WR-CALDESC:
X-WR-RELCALID:e0241ecb094176dee96365f16171fd44
X-WR-TIMEZONE:America/Denver
BEGIN:VTIMEZONE
TZID:America/Denver
BEGIN:STANDARD
TZNAME:MST
DTSTART:20191103T020000
TZOFFSETFROM:-0600
TZOFFSETTO:-0700
RDATE:20201101T020000
RDATE:20211107T020000
END:STANDARD
BEGIN:DAYLIGHT
TZNAME:MDT
DTSTART:20200308T020000
TZOFFSETFROM:-0700
TZOFFSETTO:-0600
RDATE:20210314T020000
END:DAYLIGHT
END:VTIMEZONE
BEGIN:VEVENT
UID:0c59a94f-20a8-47bb-9881-6c61ce7db139
DTSTAMP:20260424T010615Z
DESCRIPTION:
DTSTART;TZID=America/Denver:20200603T100000
DTEND;TZID=America/Denver:20200603T110000
LOCATION:Neighborhood Center Card Room
SUMMARY:Self Directed Exercise Class
END:VEVENT
END:VCALENDAR
