BEGIN:VCALENDAR
VERSION:2.0
PRODID:-//www.rmdc.net//NONSGML kigkonsult.se iCalcreator 2.30.10//
CALSCALE:GREGORIAN
METHOD:PUBLISH
UID:870b83cf-e92b-4154-9da9-cc47e1620f06
X-WR-CALDESC:
X-WR-RELCALID:144fa2a7503a98e9300e67decdfc6116
X-WR-TIMEZONE:America/Denver
BEGIN:VTIMEZONE
TZID:America/Denver
BEGIN:STANDARD
TZNAME:MST
DTSTART:20191103T020000
TZOFFSETFROM:-0600
TZOFFSETTO:-0700
RDATE:20201101T020000
RDATE:20211107T020000
END:STANDARD
BEGIN:DAYLIGHT
TZNAME:MDT
DTSTART:20200308T020000
TZOFFSETFROM:-0700
TZOFFSETTO:-0600
RDATE:20210314T020000
END:DAYLIGHT
END:VTIMEZONE
BEGIN:VEVENT
UID:09bd0f56-6543-49ee-be3c-883a755da020
DTSTAMP:20260424T012832Z
DESCRIPTION:
DTSTART;TZID=America/Denver:20200605T123000
DTEND;TZID=America/Denver:20200605T133000
LOCATION:Neighborhood Center Parlor
SUMMARY:Sew & Tell
END:VEVENT
END:VCALENDAR
