BEGIN:VCALENDAR
VERSION:2.0
PRODID:-//www.rmdc.net//NONSGML kigkonsult.se iCalcreator 2.30.10//
CALSCALE:GREGORIAN
METHOD:PUBLISH
UID:d1eadc75-6031-472c-aed8-28099ad08cdf
X-WR-CALDESC:
X-WR-RELCALID:26dcdb876add22e06235c4b0dd7ad4bc
X-WR-TIMEZONE:America/Denver
BEGIN:VTIMEZONE
TZID:America/Denver
BEGIN:STANDARD
TZNAME:MST
DTSTART:20191103T020000
TZOFFSETFROM:-0600
TZOFFSETTO:-0700
RDATE:20201101T020000
RDATE:20211107T020000
END:STANDARD
BEGIN:DAYLIGHT
TZNAME:MDT
DTSTART:20200308T020000
TZOFFSETFROM:-0700
TZOFFSETTO:-0600
RDATE:20210314T020000
END:DAYLIGHT
END:VTIMEZONE
BEGIN:VEVENT
UID:581e6981-c196-4f22-a429-3e8fbb895e67
DTSTAMP:20260424T013631Z
DESCRIPTION:
DTSTART;TZID=America/Denver:20200611T093000
DTEND;TZID=America/Denver:20200611T110000
LOCATION:Neighborhood Center Dining Room
SUMMARY:Blood Pressure Clinic
END:VEVENT
END:VCALENDAR
