BEGIN:VCALENDAR
VERSION:2.0
PRODID:-//www.rmdc.net//NONSGML kigkonsult.se iCalcreator 2.30.10//
CALSCALE:GREGORIAN
METHOD:PUBLISH
UID:17b9f24a-14ab-4d0b-b5a4-d8ad64cd2123
X-WR-CALDESC:
X-WR-RELCALID:6774a7f84e28c1204324b7e621ea09cb
X-WR-TIMEZONE:America/Denver
BEGIN:VTIMEZONE
TZID:America/Denver
BEGIN:STANDARD
TZNAME:MST
DTSTART:20191103T020000
TZOFFSETFROM:-0600
TZOFFSETTO:-0700
RDATE:20201101T020000
RDATE:20211107T020000
END:STANDARD
BEGIN:DAYLIGHT
TZNAME:MDT
DTSTART:20200308T020000
TZOFFSETFROM:-0700
TZOFFSETTO:-0600
RDATE:20210314T020000
END:DAYLIGHT
END:VTIMEZONE
BEGIN:VEVENT
UID:df792f56-26b8-499d-9bf6-75f4234f72f5
DTSTAMP:20260424T011959Z
DESCRIPTION:
DTSTART;TZID=America/Denver:20200618T090000
DTEND;TZID=America/Denver:20200618T103000
LOCATION:Neighborhood Center
SUMMARY:Coffee & Rolls
END:VEVENT
END:VCALENDAR
