BEGIN:VCALENDAR
VERSION:2.0
PRODID:-//www.rmdc.net//NONSGML kigkonsult.se iCalcreator 2.30.10//
CALSCALE:GREGORIAN
METHOD:PUBLISH
UID:39df98c6-22d6-4f25-9bd8-144388ac4849
X-WR-CALDESC:
X-WR-RELCALID:1bc4312dc2b32de50380f79094c7f7b9
X-WR-TIMEZONE:America/Denver
BEGIN:VTIMEZONE
TZID:America/Denver
BEGIN:STANDARD
TZNAME:MST
DTSTART:20191103T020000
TZOFFSETFROM:-0600
TZOFFSETTO:-0700
RDATE:20201101T020000
RDATE:20211107T020000
END:STANDARD
BEGIN:DAYLIGHT
TZNAME:MDT
DTSTART:20200308T020000
TZOFFSETFROM:-0700
TZOFFSETTO:-0600
RDATE:20210314T020000
END:DAYLIGHT
END:VTIMEZONE
BEGIN:VEVENT
UID:6e1854e0-1088-4bf0-8d72-b69dfb2189da
DTSTAMP:20260424T012125Z
DESCRIPTION:
DTSTART;TZID=America/Denver:20200622T123000
DTEND;TZID=America/Denver:20200622T133000
LOCATION:Neighborhood Center Card Room
SUMMARY:Mahjong
END:VEVENT
END:VCALENDAR
