BEGIN:VCALENDAR
VERSION:2.0
PRODID:-//www.rmdc.net//NONSGML kigkonsult.se iCalcreator 2.30.10//
CALSCALE:GREGORIAN
METHOD:PUBLISH
UID:72c72fdd-2500-4f47-af20-7daf75979c6b
X-WR-CALDESC:Grocery Packing for Seniors sign up link: https://app.helperhe
 lper.com/inst/865/opportunity/163906\n\nOne of the services Rocky's Senior
  Nutrition Program offers low-income seniors\, is a food box through the C
 ommodity Supplemental Food Program (CSFP). Every two months\, we distribut
 e boxes consisting of a combination of dry cereals\, shelf-stable milk\, c
 anned fruits and vegetables\, pasta\, canned meat (beef\, chicken\, or tun
 a)\, juices and an array of other essential food items. These products hel
 p our client's supplement their monthly nutrition needs\, and thus aid wit
 h their expenses of essential daily living.\n\nLarge pallets of food are d
 elivered to a warehouse. We need your help to sort and package these items
  into single client allotments so they can be delivered to the seniors who
  need them.\n\nThis is a PHYSICALLY DEMANDING JOB. Volunteers must be able
  to lift at least 25 lbs. and should be comfortable standing/working on ce
 ment floors in a warehouse. That being said\, you can get a great workout 
 while helping seniors! This is an unheated/uncooled warehouse\, so please 
 keep this in mind if you are interested in helping. Depending on the seaso
 n\, dressing in layers is a good idea. There are four time-slots:\n\nThurs
 day\, September 17 - 8:15 am-12:30 pm and 12:30 pm-4:45 pm\n\nFriday\, Sep
 tember 18 - 8:15 am-12:30 pm and 12:30 pm-4:45 pm\n\n \n\n*We will be chec
 king temperatures and asking some Covid-19 screening questions at each shi
 ft. We also ask that you wear a mask and gloves while packing. We will hav
 e both available (or you can bring your own mask).\n\n**In order for us to
  follow social distancing guidelines\, please use the link above to sign u
 p and ensure spots are still available.\n\n***Please bring a drink and sna
 ck if desired.\nTo ensure we can follow CDC guidelines for Covid-19\, plea
 se do not just show up to volunteer. Please sign up first!!
X-WR-RELCALID:5c9a153f1291309304b3bddeafae80f2
X-WR-TIMEZONE:America/Denver
BEGIN:VTIMEZONE
TZID:America/Denver
BEGIN:STANDARD
TZNAME:MST
DTSTART:20191103T020000
TZOFFSETFROM:-0600
TZOFFSETTO:-0700
RDATE:20201101T020000
RDATE:20211107T020000
END:STANDARD
BEGIN:DAYLIGHT
TZNAME:MDT
DTSTART:20200308T020000
TZOFFSETFROM:-0700
TZOFFSETTO:-0600
RDATE:20210314T020000
RDATE:20220313T020000
END:DAYLIGHT
END:VTIMEZONE
BEGIN:VEVENT
UID:ca9646d3-3d55-47c9-a7ae-80ff49dba045
DTSTAMP:20260423T212333Z
DESCRIPTION:Grocery Packing for Seniors sign up link: https://app.helperhel
 per.com/inst/865/opportunity/163906\n\nOne of the services Rocky's Senior 
 Nutrition Program offers low-income seniors\, is a food box through the Co
 mmodity Supplemental Food Program (CSFP). Every two months\, we distribute
  boxes consisting of a combination of dry cereals\, shelf-stable milk\, ca
 nned fruits and vegetables\, pasta\, canned meat (beef\, chicken\, or tuna
 )\, juices and an array of other essential food items. These products help
  our client's supplement their monthly nutrition needs\, and thus aid with
  their expenses of essential daily living.\n\nLarge pallets of food are de
 livered to a warehouse. We need your help to sort and package these items 
 into single client allotments so they can be delivered to the seniors who 
 need them.\n\nThis is a PHYSICALLY DEMANDING JOB. Volunteers must be able 
 to lift at least 25 lbs. and should be comfortable standing/working on cem
 ent floors in a warehouse. That being said\, you can get a great workout w
 hile helping seniors! This is an unheated/uncooled warehouse\, so please k
 eep this in mind if you are interested in helping. Depending on the season
 \, dressing in layers is a good idea. There are four time-slots:\n\nThursd
 ay\, September 17 - 8:15 am-12:30 pm and 12:30 pm-4:45 pm\n\nFriday\, Sept
 ember 18 - 8:15 am-12:30 pm and 12:30 pm-4:45 pm\n\n \n\n*We will be check
 ing temperatures and asking some Covid-19 screening questions at each shif
 t. We also ask that you wear a mask and gloves while packing. We will have
  both available (or you can bring your own mask).\n\n**In order for us to 
 follow social distancing guidelines\, please use the link above to sign up
  and ensure spots are still available.\n\n***Please bring a drink and snac
 k if desired.\nTo ensure we can follow CDC guidelines for Covid-19\, pleas
 e do not just show up to volunteer. Please sign up first!!
DTSTART;TZID=America/Denver:20200918T081500
DTEND;TZID=America/Denver:20200918T164500
LOCATION:Please DO NOT show up for packing without signing up. Packing will
  be held at  Capital Transfer and Storage 1316 Bozeman Ave. Helena\, Monta
 na 59601
SUMMARY:Grocery Packing for Seniors
END:VEVENT
END:VCALENDAR
