BEGIN:VCALENDAR
VERSION:2.0
PRODID:-//www.rmdc.net//NONSGML kigkonsult.se iCalcreator 2.30.10//
CALSCALE:GREGORIAN
METHOD:PUBLISH
UID:f62bcc18-043f-449c-be8f-e02dfecaca51
X-WR-CALDESC:Join us to watch experts discuss falls prevention during Covid
 -19.
X-WR-RELCALID:a1a229b6da2adcf13959e803d03f33b9
X-WR-TIMEZONE:America/Denver
BEGIN:VTIMEZONE
TZID:America/Denver
BEGIN:STANDARD
TZNAME:MST
DTSTART:20191103T020000
TZOFFSETFROM:-0600
TZOFFSETTO:-0700
RDATE:20201101T020000
RDATE:20211107T020000
END:STANDARD
BEGIN:DAYLIGHT
TZNAME:MDT
DTSTART:20200308T020000
TZOFFSETFROM:-0700
TZOFFSETTO:-0600
RDATE:20210314T020000
RDATE:20220313T020000
END:DAYLIGHT
END:VTIMEZONE
BEGIN:VEVENT
UID:ec324f69-8b26-435c-a5f6-6fe47d5775fe
DTSTAMP:20260423T211833Z
DESCRIPTION:Join us to watch experts discuss falls prevention during Covid-
 19.
DTSTART;TZID=America/Denver:20200924T163000
DTEND;TZID=America/Denver:20200924T173000
LOCATION:https://www.facebook.com/NCOAging/
SUMMARY:Falls Free Checkup (Spanish)
END:VEVENT
END:VCALENDAR
