BEGIN:VCALENDAR
VERSION:2.0
PRODID:-//www.rmdc.net//NONSGML kigkonsult.se iCalcreator 2.30.10//
CALSCALE:GREGORIAN
METHOD:PUBLISH
UID:bd7d32a0-9cab-457b-95b6-3a510d5e13a2
X-WR-CALDESC:
X-WR-RELCALID:d7ffba867d5348fda66f441fde37952a
X-WR-TIMEZONE:America/Denver
BEGIN:VTIMEZONE
TZID:America/Denver
BEGIN:STANDARD
TZNAME:MST
DTSTART:20191103T020000
TZOFFSETFROM:-0600
TZOFFSETTO:-0700
RDATE:20201101T020000
RDATE:20211107T020000
END:STANDARD
BEGIN:DAYLIGHT
TZNAME:MDT
DTSTART:20200308T020000
TZOFFSETFROM:-0700
TZOFFSETTO:-0600
RDATE:20210314T020000
RDATE:20220313T020000
END:DAYLIGHT
END:VTIMEZONE
BEGIN:VEVENT
UID:0c6c8d2f-7228-4fbe-b684-b0c37272248f
DTSTAMP:20260423T200215Z
DESCRIPTION:
DTSTART;TZID=America/Denver:20201005T000000
DTEND;TZID=America/Denver:20201005T235900
LOCATION:
SUMMARY:First Day of School for Eastgate and Ray Bjork Learning Center\, He
 ad Start Classrooms\, and Head Start Remote Learning
END:VEVENT
END:VCALENDAR
