BEGIN:VCALENDAR
VERSION:2.0
PRODID:-//www.rmdc.net//NONSGML kigkonsult.se iCalcreator 2.30.10//
CALSCALE:GREGORIAN
METHOD:PUBLISH
UID:51b88b05-505f-495e-b119-950b78a8fec6
X-WR-CALDESC:Join William Schragis\, guest lecturer from the Culinary Insti
 tute of America and National Director of Barrell Craft Spirits in a lectur
 e and discussion about the modern state of the Whiskey industry. He will g
 ive a brief overview of the actual definition of whiskey in the 5 main whi
 skey-producing countries and speak about some of the most successful class
 ic and emerging whiskey makers. He will then offer some personal insight o
 n how companies large and small have capitalized on the growing interest a
 nd how others have failed to teach the world why they are so special.
X-WR-RELCALID:e957bbb8cf10b14117f1ea97b1a05074
X-WR-TIMEZONE:America/Denver
BEGIN:VTIMEZONE
TZID:America/Denver
BEGIN:STANDARD
TZNAME:MST
DTSTART:20201101T020000
TZOFFSETFROM:-0600
TZOFFSETTO:-0700
RDATE:20211107T020000
END:STANDARD
BEGIN:DAYLIGHT
TZNAME:MDT
DTSTART:20200308T020000
TZOFFSETFROM:-0700
TZOFFSETTO:-0600
RDATE:20210314T020000
RDATE:20220313T020000
END:DAYLIGHT
END:VTIMEZONE
BEGIN:VEVENT
UID:6fba9605-a92e-4a00-8836-7f0ce01a5720
DTSTAMP:20260423T171818Z
DESCRIPTION:Join William Schragis\, guest lecturer from the Culinary Instit
 ute of America and National Director of Barrell Craft Spirits in a lecture
  and discussion about the modern state of the Whiskey industry. He will gi
 ve a brief overview of the actual definition of whiskey in the 5 main whis
 key-producing countries and speak about some of the most successful classi
 c and emerging whiskey makers. He will then offer some personal insight on
  how companies large and small have capitalized on the growing interest an
 d how others have failed to teach the world why they are so special.
DTSTART;TZID=America/Denver:20201202T153000
DTEND;TZID=America/Denver:20201202T163000
LOCATION:https://aarp.cvent.com/events/one-day-university-lecture-series-pr
 esented-by-aarp-the-modern-whiskey-boom/event-summary-3feda52a2f8749c9bfa5
 b829b2e75069.aspx?RefID=Roundup
SUMMARY:AARP Lecure: The Modern Whiskey Boom
END:VEVENT
END:VCALENDAR
