BEGIN:VCALENDAR
VERSION:2.0
PRODID:-//www.rmdc.net//NONSGML kigkonsult.se iCalcreator 2.30.10//
CALSCALE:GREGORIAN
METHOD:PUBLISH
UID:676db8e4-46ea-4cc2-ade7-c9939baec545
X-WR-CALDESC:
X-WR-RELCALID:ed31ff70e61b617fd84379fbed7aa7e7
X-WR-TIMEZONE:America/Denver
BEGIN:VTIMEZONE
TZID:America/Denver
BEGIN:STANDARD
TZNAME:MST
DTSTART:20201101T020000
TZOFFSETFROM:-0600
TZOFFSETTO:-0700
RDATE:20211107T020000
END:STANDARD
BEGIN:DAYLIGHT
TZNAME:MDT
DTSTART:20200308T020000
TZOFFSETFROM:-0700
TZOFFSETTO:-0600
RDATE:20210314T020000
RDATE:20220313T020000
END:DAYLIGHT
END:VTIMEZONE
BEGIN:VEVENT
UID:73b555b6-b8f2-41a8-a61a-79faafccc530
DTSTAMP:20260423T154315Z
DESCRIPTION:
DTSTART;TZID=America/Denver:20210118T000000
DTEND;TZID=America/Denver:20210118T235900
LOCATION:
SUMMARY:Martin Luther King Day - Closed
END:VEVENT
END:VCALENDAR
