BEGIN:VCALENDAR
VERSION:2.0
PRODID:-//www.rmdc.net//NONSGML kigkonsult.se iCalcreator 2.30.10//
CALSCALE:GREGORIAN
METHOD:PUBLISH
UID:0333c130-57c1-4721-abdf-9e58c228b0f7
X-WR-CALDESC:
X-WR-RELCALID:43b64aceb7c52cbcfa30c0fad78c6e3a
X-WR-TIMEZONE:America/Denver
BEGIN:VTIMEZONE
TZID:America/Denver
BEGIN:STANDARD
TZNAME:MST
DTSTART:20201101T020000
TZOFFSETFROM:-0600
TZOFFSETTO:-0700
RDATE:20211107T020000
END:STANDARD
BEGIN:DAYLIGHT
TZNAME:MDT
DTSTART:20200308T020000
TZOFFSETFROM:-0700
TZOFFSETTO:-0600
RDATE:20210314T020000
RDATE:20220313T020000
END:DAYLIGHT
END:VTIMEZONE
BEGIN:VEVENT
UID:ddc23b0e-8cd6-4e73-99f6-c579eba66a8d
DTSTAMP:20260423T141620Z
DESCRIPTION:
DTSTART;TZID=America/Denver:20210216T000000
DTEND;TZID=America/Denver:20210218T235900
LOCATION:
SUMMARY:Family Conferences (Classrooms are open)
END:VEVENT
END:VCALENDAR
