BEGIN:VCALENDAR
VERSION:2.0
PRODID:-//www.rmdc.net//NONSGML kigkonsult.se iCalcreator 2.30.10//
CALSCALE:GREGORIAN
METHOD:PUBLISH
UID:3053caa4-4109-4583-ba06-f04ac3c0df30
X-WR-CALDESC:Please sign up using this link: https://app.helperhelper.com/i
 nst/865/opportunity/177472\n\nOne of the services Rocky's Senior Nutrition
  Program offers low-income seniors\, is a food box through the Commodity S
 upplemental Food Program (CSFP). Every two months\, we distribute boxes co
 nsisting of a combination of dry cereals\, shelf-stable milk\, canned frui
 ts and vegetables\, pasta\, canned meat (beef\, chicken\, or tuna)\, juice
 s and an array of other essential food items. These products help our clie
 nt's supplement their monthly nutrition needs\, and thus aid with their ex
 penses of essential daily living.\n\nLarge pallets of food are delivered t
 o a warehouse. We need your help to sort and package these items into sing
 le client allotments so they can be delivered to the seniors who need them
 .\n\nThis is a PHYSICALLY DEMANDING JOB. Volunteers must be able to lift a
 t least 25 lbs. and should be comfortable standing/working on cement floor
 s in a warehouse. That being said\, you can get a great workout while help
 ing seniors! This is an unheated/uncooled warehouse\, so please keep this 
 in mind if you are interested in helping. Depending on the season\, dressi
 ng in layers is a good idea. There are four time-slots:\n\nThursday\, Marc
 h 18 - 8:15 am-12:30 pm and 12:30 pm-4:45 pm\n\nFriday\, March 19 - 8:15 a
 m-12:30 pm and 12:30 pm-4:45 pm\n\n \n\n*We will be checking temperatures 
 and asking some Covid-19 screening questions at each shift. We also ask th
 at you wear a mask and gloves while packing. We will have both available (
 or you can bring your own mask).\n\n**In order for us to follow social dis
 tancing guidelines\, please contact Maria Murphy (mmurphy@rmdc.net 406-457
 -7376) ahead of time to sign-up and make sure we still have room for more 
 volunteers.\n\n***Please bring a drink and snack if desired.\nTo ensure we
  can follow CDC guidelines for Covid-19\, please do not just show up to vo
 lunteer. Please sign up first!!
X-WR-RELCALID:1018a0e51ce1461d30bfe14e6ffef678
X-WR-TIMEZONE:America/Denver
BEGIN:VTIMEZONE
TZID:America/Denver
BEGIN:STANDARD
TZNAME:MST
DTSTART:20201101T020000
TZOFFSETFROM:-0600
TZOFFSETTO:-0700
RDATE:20211107T020000
END:STANDARD
BEGIN:DAYLIGHT
TZNAME:MDT
DTSTART:20210314T020000
TZOFFSETFROM:-0700
TZOFFSETTO:-0600
RDATE:20220313T020000
END:DAYLIGHT
END:VTIMEZONE
BEGIN:VEVENT
UID:fabcde96-474f-4e59-b4fc-f859a169b10a
DTSTAMP:20260423T124607Z
DESCRIPTION:Please sign up using this link: https://app.helperhelper.com/in
 st/865/opportunity/177472\n\nOne of the services Rocky's Senior Nutrition 
 Program offers low-income seniors\, is a food box through the Commodity Su
 pplemental Food Program (CSFP). Every two months\, we distribute boxes con
 sisting of a combination of dry cereals\, shelf-stable milk\, canned fruit
 s and vegetables\, pasta\, canned meat (beef\, chicken\, or tuna)\, juices
  and an array of other essential food items. These products help our clien
 t's supplement their monthly nutrition needs\, and thus aid with their exp
 enses of essential daily living.\n\nLarge pallets of food are delivered to
  a warehouse. We need your help to sort and package these items into singl
 e client allotments so they can be delivered to the seniors who need them.
 \n\nThis is a PHYSICALLY DEMANDING JOB. Volunteers must be able to lift at
  least 25 lbs. and should be comfortable standing/working on cement floors
  in a warehouse. That being said\, you can get a great workout while helpi
 ng seniors! This is an unheated/uncooled warehouse\, so please keep this i
 n mind if you are interested in helping. Depending on the season\, dressin
 g in layers is a good idea. There are four time-slots:\n\nThursday\, March
  18 - 8:15 am-12:30 pm and 12:30 pm-4:45 pm\n\nFriday\, March 19 - 8:15 am
 -12:30 pm and 12:30 pm-4:45 pm\n\n \n\n*We will be checking temperatures a
 nd asking some Covid-19 screening questions at each shift. We also ask tha
 t you wear a mask and gloves while packing. We will have both available (o
 r you can bring your own mask).\n\n**In order for us to follow social dist
 ancing guidelines\, please contact Maria Murphy (mmurphy@rmdc.net 406-457-
 7376) ahead of time to sign-up and make sure we still have room for more v
 olunteers.\n\n***Please bring a drink and snack if desired.\nTo ensure we 
 can follow CDC guidelines for Covid-19\, please do not just show up to vol
 unteer. Please sign up first!!
DTSTART;TZID=America/Denver:20210318T081500
DTEND;TZID=America/Denver:20210318T164500
LOCATION:Please DO NOT show up for packing without signing up. Packing will
  be held at Capital Transfer and Storage 1316 Bozeman Ave. Helena\, Montan
 a 59601
SUMMARY:Grocery Packing for Seniors
END:VEVENT
END:VCALENDAR
