BEGIN:VCALENDAR
VERSION:2.0
PRODID:-//www.rmdc.net//NONSGML kigkonsult.se iCalcreator 2.30.10//
CALSCALE:GREGORIAN
METHOD:PUBLISH
UID:bdfe3364-46c4-4aaf-a268-64032949b0fc
X-WR-CALDESC:
X-WR-RELCALID:65ada5eb785421e93ee03848c12a2d57
X-WR-TIMEZONE:America/Denver
BEGIN:VTIMEZONE
TZID:America/Denver
BEGIN:STANDARD
TZNAME:MST
DTSTART:20201101T020000
TZOFFSETFROM:-0600
TZOFFSETTO:-0700
RDATE:20211107T020000
END:STANDARD
BEGIN:DAYLIGHT
TZNAME:MDT
DTSTART:20210314T020000
TZOFFSETFROM:-0700
TZOFFSETTO:-0600
RDATE:20220313T020000
END:DAYLIGHT
END:VTIMEZONE
BEGIN:VEVENT
UID:9c87a226-201d-4d6c-b215-07f8e1250d18
DTSTAMP:20260423T124809Z
DESCRIPTION:
DTSTART;TZID=America/Denver:20210322T100000
DTEND;TZID=America/Denver:20210322T104500
LOCATION:Neighborhood Center Card Room
SUMMARY:Jeanie's Arthritis Foundation Exercise Class
END:VEVENT
END:VCALENDAR
