BEGIN:VCALENDAR
VERSION:2.0
PRODID:-//www.rmdc.net//NONSGML kigkonsult.se iCalcreator 2.30.10//
CALSCALE:GREGORIAN
METHOD:PUBLISH
UID:e3a5606c-4b19-4c48-b0ef-f2ef3f805d0d
X-WR-CALDESC:MASTERWORKS CONCERT V: Clarinetist Ricardo Morales Plays Copla
 nd \n\nThe greatest living clarinetist returns! Ricardo Morales performs C
 opland’s lyrical and jazz-influenced Clarinet Concerto that was composed f
 or the legendary swing musician Benny Goodman. Mendelssohn’s Scottish Symp
 hony gives us a musical escape to find rejuvenation through sentimental so
 ngfulness.
X-WR-RELCALID:ef7e7dd9f3fda10c4ae8f7cb2e9acdcc
X-WR-TIMEZONE:America/Denver
BEGIN:VTIMEZONE
TZID:America/Denver
BEGIN:STANDARD
TZNAME:MST
DTSTART:20201101T020000
TZOFFSETFROM:-0600
TZOFFSETTO:-0700
RDATE:20211107T020000
END:STANDARD
BEGIN:DAYLIGHT
TZNAME:MDT
DTSTART:20210314T020000
TZOFFSETFROM:-0700
TZOFFSETTO:-0600
RDATE:20220313T020000
END:DAYLIGHT
END:VTIMEZONE
BEGIN:VEVENT
UID:d30088cd-b3a0-4e7e-86ca-bd2f613bc7ba
DTSTAMP:20260423T124736Z
DESCRIPTION:MASTERWORKS CONCERT V: Clarinetist Ricardo Morales Plays Coplan
 d \n\nThe greatest living clarinetist returns! Ricardo Morales performs Co
 pland’s lyrical and jazz-influenced Clarinet Concerto that was composed fo
 r the legendary swing musician Benny Goodman. Mendelssohn’s Scottish Symph
 ony gives us a musical escape to find rejuvenation through sentimental son
 gfulness.
DTSTART;TZID=America/Denver:20210327T193000
DTEND;TZID=America/Denver:20210327T203000
LOCATION:https://aarp.cvent.com/events/aarp-mt-homestream-your-helena-symph
 ony-3-27-21/event-summary-a49a590d30b5428c9782122b722c71ba.aspx
SUMMARY:AARP MT\, HomeStream Your Helena Symphony
END:VEVENT
END:VCALENDAR
