BEGIN:VCALENDAR
VERSION:2.0
PRODID:-//www.rmdc.net//NONSGML kigkonsult.se iCalcreator 2.30.10//
CALSCALE:GREGORIAN
METHOD:PUBLISH
UID:194917cb-6b69-45dd-acef-60625ae8fdbb
X-WR-CALDESC:
X-WR-RELCALID:3f837caff9a1c99c1b061acfb3b3fa4d
X-WR-TIMEZONE:America/Denver
BEGIN:VTIMEZONE
TZID:America/Denver
BEGIN:STANDARD
TZNAME:MST
DTSTART:20201101T020000
TZOFFSETFROM:-0600
TZOFFSETTO:-0700
RDATE:20211107T020000
END:STANDARD
BEGIN:DAYLIGHT
TZNAME:MDT
DTSTART:20210314T020000
TZOFFSETFROM:-0700
TZOFFSETTO:-0600
RDATE:20220313T020000
END:DAYLIGHT
END:VTIMEZONE
BEGIN:VEVENT
UID:e2741155-ed92-44bf-af09-e61c90ad87e9
DTSTAMP:20260423T111435Z
DESCRIPTION:
DTSTART;TZID=America/Denver:20210405T000000
DTEND;TZID=America/Denver:20210405T235900
LOCATION:
SUMMARY:Spring Break BOULDER ONLY
END:VEVENT
END:VCALENDAR
