BEGIN:VCALENDAR
VERSION:2.0
PRODID:-//www.rmdc.net//NONSGML kigkonsult.se iCalcreator 2.30.10//
CALSCALE:GREGORIAN
METHOD:PUBLISH
UID:5e52958f-1e78-4d67-8c4e-6f636d50e2a9
X-WR-CALDESC:
X-WR-RELCALID:b54d0e52e1f597951876f824553280f3
X-WR-TIMEZONE:America/Denver
BEGIN:VTIMEZONE
TZID:America/Denver
BEGIN:STANDARD
TZNAME:MST
DTSTART:20201101T020000
TZOFFSETFROM:-0600
TZOFFSETTO:-0700
RDATE:20211107T020000
END:STANDARD
BEGIN:DAYLIGHT
TZNAME:MDT
DTSTART:20210314T020000
TZOFFSETFROM:-0700
TZOFFSETTO:-0600
RDATE:20220313T020000
END:DAYLIGHT
END:VTIMEZONE
BEGIN:VEVENT
UID:d361ba47-bf75-436a-becc-fedb971e5498
DTSTAMP:20260423T111935Z
DESCRIPTION:
DTSTART;TZID=America/Denver:20210413T090000
DTEND;TZID=America/Denver:20210413T120000
LOCATION:Neighborhood Center Card Room
SUMMARY:Crafty Quilters
END:VEVENT
END:VCALENDAR
