BEGIN:VCALENDAR
VERSION:2.0
PRODID:-//www.rmdc.net//NONSGML kigkonsult.se iCalcreator 2.30.10//
CALSCALE:GREGORIAN
METHOD:PUBLISH
UID:fed19a8e-8c0d-4ee1-ac98-e1d59c768cd3
X-WR-CALDESC:
X-WR-RELCALID:cf6b27a69f586a91d0fa54f7e6d3fdaa
X-WR-TIMEZONE:America/Denver
BEGIN:VTIMEZONE
TZID:America/Denver
BEGIN:STANDARD
TZNAME:MST
DTSTART:20201101T020000
TZOFFSETFROM:-0600
TZOFFSETTO:-0700
RDATE:20211107T020000
END:STANDARD
BEGIN:DAYLIGHT
TZNAME:MDT
DTSTART:20210314T020000
TZOFFSETFROM:-0700
TZOFFSETTO:-0600
RDATE:20220313T020000
END:DAYLIGHT
END:VTIMEZONE
BEGIN:VEVENT
UID:684c9d04-a225-43bc-8b13-f4b9adb343a4
DTSTAMP:20260423T111628Z
DESCRIPTION:
DTSTART;TZID=America/Denver:20210422T093000
DTEND;TZID=America/Denver:20210422T110000
LOCATION:Neighborhood Center Dance Floor
SUMMARY:Line Dancing
END:VEVENT
END:VCALENDAR
