BEGIN:VCALENDAR
VERSION:2.0
PRODID:-//www.rmdc.net//NONSGML kigkonsult.se iCalcreator 2.30.10//
CALSCALE:GREGORIAN
METHOD:PUBLISH
UID:e1df58f0-6d3c-4406-bd31-e0ba1867edd0
X-WR-CALDESC:
X-WR-RELCALID:5ad5264878f0bebe22282a6d6794ff9e
X-WR-TIMEZONE:America/Denver
BEGIN:VTIMEZONE
TZID:America/Denver
BEGIN:STANDARD
TZNAME:MST
DTSTART:20201101T020000
TZOFFSETFROM:-0600
TZOFFSETTO:-0700
RDATE:20211107T020000
RDATE:20221106T020000
END:STANDARD
BEGIN:DAYLIGHT
TZNAME:MDT
DTSTART:20210314T020000
TZOFFSETFROM:-0700
TZOFFSETTO:-0600
RDATE:20220313T020000
END:DAYLIGHT
END:VTIMEZONE
BEGIN:VEVENT
UID:315ccca1-ae4a-4388-a4a9-176951719473
DTSTAMP:20260423T095336Z
DESCRIPTION:
DTSTART;TZID=America/Denver:20210507T000000
DTEND;TZID=America/Denver:20210507T235900
LOCATION:
SUMMARY:Family Conferences
END:VEVENT
END:VCALENDAR
