BEGIN:VCALENDAR
VERSION:2.0
PRODID:-//www.rmdc.net//NONSGML kigkonsult.se iCalcreator 2.30.10//
CALSCALE:GREGORIAN
METHOD:PUBLISH
UID:5c44933b-dba7-49b1-8056-10e893880fdf
X-WR-CALDESC:
X-WR-RELCALID:4709c35087e3da68569a7b8862b6daf9
X-WR-TIMEZONE:America/Denver
BEGIN:VTIMEZONE
TZID:America/Denver
BEGIN:STANDARD
TZNAME:MST
DTSTART:20201101T020000
TZOFFSETFROM:-0600
TZOFFSETTO:-0700
RDATE:20211107T020000
RDATE:20221106T020000
END:STANDARD
BEGIN:DAYLIGHT
TZNAME:MDT
DTSTART:20210314T020000
TZOFFSETFROM:-0700
TZOFFSETTO:-0600
RDATE:20220313T020000
END:DAYLIGHT
END:VTIMEZONE
BEGIN:VEVENT
UID:88ed885c-a1c7-4dc2-8a0d-49276bd2338b
DTSTAMP:20260423T082534Z
DESCRIPTION:
DTSTART;TZID=America/Denver:20210617T130000
DTEND;TZID=America/Denver:20210617T150000
LOCATION:Card Room
SUMMARY:Living Life Well
END:VEVENT
END:VCALENDAR
