BEGIN:VCALENDAR
VERSION:2.0
PRODID:-//www.rmdc.net//NONSGML kigkonsult.se iCalcreator 2.30.10//
CALSCALE:GREGORIAN
METHOD:PUBLISH
UID:d98a3a0c-ab71-4411-94f6-57adae1e762c
X-WR-CALDESC:
X-WR-RELCALID:8f57c4d58eb62f92613bb7fbc9075ac8
X-WR-TIMEZONE:America/Denver
BEGIN:VTIMEZONE
TZID:America/Denver
BEGIN:STANDARD
TZNAME:MST
DTSTART:20201101T020000
TZOFFSETFROM:-0600
TZOFFSETTO:-0700
RDATE:20211107T020000
RDATE:20221106T020000
END:STANDARD
BEGIN:DAYLIGHT
TZNAME:MDT
DTSTART:20210314T020000
TZOFFSETFROM:-0700
TZOFFSETTO:-0600
RDATE:20220313T020000
END:DAYLIGHT
END:VTIMEZONE
BEGIN:VEVENT
UID:6d31a41f-3b1f-47fe-a520-2e38a2fe1ff0
DTSTAMP:20260423T064704Z
DESCRIPTION:
DTSTART;TZID=America/Denver:20210708T090000
DTEND;TZID=America/Denver:20210708T103000
LOCATION:
SUMMARY:Coffee and Rolls
END:VEVENT
END:VCALENDAR
