BEGIN:VCALENDAR
VERSION:2.0
PRODID:-//www.rmdc.net//NONSGML kigkonsult.se iCalcreator 2.30.10//
CALSCALE:GREGORIAN
METHOD:PUBLISH
UID:07552e52-0d20-45c8-97b5-a59d85438b8f
X-WR-CALDESC:
X-WR-RELCALID:27058f4099546ffb850a9327b41bbd68
X-WR-TIMEZONE:America/Denver
BEGIN:VTIMEZONE
TZID:America/Denver
BEGIN:STANDARD
TZNAME:MST
DTSTART:20201101T020000
TZOFFSETFROM:-0600
TZOFFSETTO:-0700
RDATE:20211107T020000
RDATE:20221106T020000
END:STANDARD
BEGIN:DAYLIGHT
TZNAME:MDT
DTSTART:20210314T020000
TZOFFSETFROM:-0700
TZOFFSETTO:-0600
RDATE:20220313T020000
END:DAYLIGHT
END:VTIMEZONE
BEGIN:VEVENT
UID:b5de5700-34a4-4f77-bdb8-9668fd7fc9c1
DTSTAMP:20260423T064814Z
DESCRIPTION:
DTSTART;TZID=America/Denver:20210729T130000
DTEND;TZID=America/Denver:20210729T150000
LOCATION:Card Room
SUMMARY:Powerful Tools for Caregivers
END:VEVENT
END:VCALENDAR
