BEGIN:VCALENDAR
VERSION:2.0
PRODID:-//www.rmdc.net//NONSGML kigkonsult.se iCalcreator 2.30.10//
CALSCALE:GREGORIAN
METHOD:PUBLISH
UID:8d4ecc08-68cf-4ea3-bb1c-cbe558262056
X-WR-CALDESC:
X-WR-RELCALID:7a733376278bd23a32409a057dd01304
X-WR-TIMEZONE:America/Denver
BEGIN:VTIMEZONE
TZID:America/Denver
BEGIN:STANDARD
TZNAME:MST
DTSTART:20201101T020000
TZOFFSETFROM:-0600
TZOFFSETTO:-0700
RDATE:20211107T020000
RDATE:20221106T020000
END:STANDARD
BEGIN:DAYLIGHT
TZNAME:MDT
DTSTART:20210314T020000
TZOFFSETFROM:-0700
TZOFFSETTO:-0600
RDATE:20220313T020000
END:DAYLIGHT
END:VTIMEZONE
BEGIN:VEVENT
UID:554b1052-7daa-4c04-b332-7be979dd3f82
DTSTAMP:20260423T050611Z
DESCRIPTION:
DTSTART;TZID=America/Denver:20210812T130000
DTEND;TZID=America/Denver:20210812T150000
LOCATION:Card Room
SUMMARY:Powerful Tools for Caregivers
END:VEVENT
END:VCALENDAR
