BEGIN:VCALENDAR
VERSION:2.0
PRODID:-//www.rmdc.net//NONSGML kigkonsult.se iCalcreator 2.30.10//
CALSCALE:GREGORIAN
METHOD:PUBLISH
UID:1fceb3e1-23e5-498a-8be7-6a2ad5682e8e
X-WR-CALDESC:Rocky Mountain Development Council\, Inc. is offering a three-
 part Homebuyer Education Class on August 17-19. The three sessions will ru
 n from 5:30-8:30 PM. To receive certification\, attendance of three sessio
 ns is required.\n\nWHAT IS HOMEBUYER EDUCATION CLASS FOR?\nHomebuyer Educa
 tion classes provide in-depth information on many aspects of homeownership
  including:\n- Budgeting\n- Finding a home\n- Choosing a lender/closing on
  a loan\n- Homeowner’s insurance\n- Home inspection & maintenance\n- Energ
 y savings\n\n* Please note that class registration is nonrefundable. Regis
 tration also requires a 60-minute intake/counseling appointment prior to c
 lass. \n\n
X-WR-RELCALID:39169be4a89ab70428a629f36ce15e5f
X-WR-TIMEZONE:America/Denver
BEGIN:VTIMEZONE
TZID:America/Denver
BEGIN:STANDARD
TZNAME:MST
DTSTART:20201101T020000
TZOFFSETFROM:-0600
TZOFFSETTO:-0700
RDATE:20211107T020000
RDATE:20221106T020000
END:STANDARD
BEGIN:DAYLIGHT
TZNAME:MDT
DTSTART:20210314T020000
TZOFFSETFROM:-0700
TZOFFSETTO:-0600
RDATE:20220313T020000
END:DAYLIGHT
END:VTIMEZONE
BEGIN:VEVENT
UID:7ca2bf1b-80d7-477f-b4c6-d2ff2dbc90ff
DTSTAMP:20260423T051659Z
DESCRIPTION:Rocky Mountain Development Council\, Inc. is offering a three-p
 art Homebuyer Education Class on August 17-19. The three sessions will run
  from 5:30-8:30 PM. To receive certification\, attendance of three session
 s is required.\n\nWHAT IS HOMEBUYER EDUCATION CLASS FOR?\nHomebuyer Educat
 ion classes provide in-depth information on many aspects of homeownership 
 including:\n- Budgeting\n- Finding a home\n- Choosing a lender/closing on 
 a loan\n- Homeowner’s insurance\n- Home inspection & maintenance\n- Energy
  savings\n\n* Please note that class registration is nonrefundable. Regist
 ration also requires a 60-minute intake/counseling appointment prior to cl
 ass. \n\n
DTSTART;TZID=America/Denver:20210817T173000
DTEND;TZID=America/Denver:20210819T203000
LOCATION:Virtual Event - A Zoom link will be emailed after registration.
SUMMARY:Rocky's Homebuyer Education Class - 3 Part
END:VEVENT
END:VCALENDAR
