BEGIN:VCALENDAR
VERSION:2.0
PRODID:-//www.rmdc.net//NONSGML kigkonsult.se iCalcreator 2.30.10//
CALSCALE:GREGORIAN
METHOD:PUBLISH
UID:02ae9f8d-4941-46e5-bc6b-e693e52473aa
X-WR-CALDESC:Rocky Mountain Development Council and AmeriCorps Seniors is i
 nviting the community to\ngather during the 1st annual 9/11 Flag of Honor 
 Across America Memorial meant to honor the\nlives lost 20 years ago. Helen
 a is one of sixty communities around the nation that will be\nparticipatin
 g in this 9/11 memorial. The 9/11 Flag of Honor\, which includes the names
  of all\n2\,983 victims who lost their lives\, will be displayed at the me
 morial.\n\nOn Saturday\, September 11\, at 9:02 am a memorial will take pl
 ace on the walking mall behind\nRocky’s Neighborhood Center located on 200
  S Cruse Ave\, Helena\, MT 59601.\n\nThe memorial service will begin with 
 Assistant Fire Chief Mike Chambers\, who was on duty the\nmorning of the a
 ttacks\, sharing his experience. Then AmeriCorps Seniors volunteers will r
 ead\nfifty of the 2\,983 names of victims of the attack followed by a mome
 nt of silence.\n\nAll are invited to stay for refreshments after the event
  to visit\, share their story\, and honor those\nwho died.
X-WR-RELCALID:a3de37b5f710241726147a1a155774b3
X-WR-TIMEZONE:America/Denver
BEGIN:VTIMEZONE
TZID:America/Denver
BEGIN:STANDARD
TZNAME:MST
DTSTART:20201101T020000
TZOFFSETFROM:-0600
TZOFFSETTO:-0700
RDATE:20211107T020000
RDATE:20221106T020000
END:STANDARD
BEGIN:DAYLIGHT
TZNAME:MDT
DTSTART:20210314T020000
TZOFFSETFROM:-0700
TZOFFSETTO:-0600
RDATE:20220313T020000
RDATE:20230312T020000
END:DAYLIGHT
END:VTIMEZONE
BEGIN:VEVENT
UID:577027ac-bd78-47f8-826f-8694af3b2932
DTSTAMP:20260423T033945Z
DESCRIPTION:Rocky Mountain Development Council and AmeriCorps Seniors is in
 viting the community to\ngather during the 1st annual 9/11 Flag of Honor A
 cross America Memorial meant to honor the\nlives lost 20 years ago. Helena
  is one of sixty communities around the nation that will be\nparticipating
  in this 9/11 memorial. The 9/11 Flag of Honor\, which includes the names 
 of all\n2\,983 victims who lost their lives\, will be displayed at the mem
 orial.\n\nOn Saturday\, September 11\, at 9:02 am a memorial will take pla
 ce on the walking mall behind\nRocky’s Neighborhood Center located on 200 
 S Cruse Ave\, Helena\, MT 59601.\n\nThe memorial service will begin with A
 ssistant Fire Chief Mike Chambers\, who was on duty the\nmorning of the at
 tacks\, sharing his experience. Then AmeriCorps Seniors volunteers will re
 ad\nfifty of the 2\,983 names of victims of the attack followed by a momen
 t of silence.\n\nAll are invited to stay for refreshments after the event 
 to visit\, share their story\, and honor those\nwho died.
DTSTART;TZID=America/Denver:20210911T090000
DTEND;TZID=America/Denver:20210911T120000
LOCATION:CHANGE: The DINING ROOM of the Helena Senior Center\, in Rocky's N
 eighborhood Center at 200 S. Cruse Ave
SUMMARY:AmeriCorps Seniors hosts 9/11 Flag of Honor Across America Memorial
END:VEVENT
END:VCALENDAR
