BEGIN:VCALENDAR
VERSION:2.0
PRODID:-//www.rmdc.net//NONSGML kigkonsult.se iCalcreator 2.30.10//
CALSCALE:GREGORIAN
METHOD:PUBLISH
UID:b639ab5c-611e-4f83-92c3-84566fdfdd2b
X-WR-CALDESC:Don't let your feet give you a fright this fall!  Please call 
 to schedule an appointment for foot/nail/skin care and risk assessment\, d
 iabetic education\, and/or foot maintenance.  Foot nurses are licensed and
  insured.  Call them today at 406-431-0006 to schedule for upcoming dates.
X-WR-RELCALID:23577172d925cddbbe76a18b8e1c3327
X-WR-TIMEZONE:America/Denver
BEGIN:VTIMEZONE
TZID:America/Denver
BEGIN:STANDARD
TZNAME:MST
DTSTART:20201101T020000
TZOFFSETFROM:-0600
TZOFFSETTO:-0700
RDATE:20211107T020000
RDATE:20221106T020000
END:STANDARD
BEGIN:DAYLIGHT
TZNAME:MDT
DTSTART:20210314T020000
TZOFFSETFROM:-0700
TZOFFSETTO:-0600
RDATE:20220313T020000
RDATE:20230312T020000
END:DAYLIGHT
END:VTIMEZONE
BEGIN:VEVENT
UID:71063586-aa97-48b3-93d7-5a5fe6e27f65
DTSTAMP:20260423T033301Z
DESCRIPTION:Don't let your feet give you a fright this fall!  Please call t
 o schedule an appointment for foot/nail/skin care and risk assessment\, di
 abetic education\, and/or foot maintenance.  Foot nurses are licensed and 
 insured.  Call them today at 406-431-0006 to schedule for upcoming dates.
DTSTART;TZID=America/Denver:20210923T090000
DTEND;TZID=America/Denver:20210923T150000
LOCATION:Rocky Neighborhood Center - 200 S. Cruse Avenue
SUMMARY:Foot Clinic
END:VEVENT
END:VCALENDAR
