BEGIN:VCALENDAR
VERSION:2.0
PRODID:-//www.rmdc.net//NONSGML kigkonsult.se iCalcreator 2.30.10//
CALSCALE:GREGORIAN
METHOD:PUBLISH
UID:9cd365fc-0817-4ad0-9e5c-05b2b98f0ec7
X-WR-CALDESC:Rocky Mountain Development Council\, Inc. is offering a three-
 part Homebuyer Education Class on November 16 - 18. The three sessions wil
 l run from 5:30-8:30 PM. To receive certification\, attendance of three se
 ssions is required.\n\nWHAT IS HOMEBUYER EDUCATION CLASS FOR?\nHomebuyer E
 ducation classes provide in-depth information on many aspects of homeowner
 ship including:\n- Budgeting\n- Finding a home\n- Choosing a lender/closin
 g on a loan\n- Homeowner’s insurance\n- Home inspection & maintenance\n- E
 nergy savings\n\n* Please note that class registration is nonrefundable. R
 egistration also requires a 60-minute intake/counseling appointment prior 
 to class. \n\n
X-WR-RELCALID:7bee206418d811d1624948bd0b28b845
X-WR-TIMEZONE:America/Denver
BEGIN:VTIMEZONE
TZID:America/Denver
BEGIN:STANDARD
TZNAME:MST
DTSTART:20211107T020000
TZOFFSETFROM:-0600
TZOFFSETTO:-0700
RDATE:20221106T020000
END:STANDARD
BEGIN:DAYLIGHT
TZNAME:MDT
DTSTART:20210314T020000
TZOFFSETFROM:-0700
TZOFFSETTO:-0600
RDATE:20220313T020000
RDATE:20230312T020000
END:DAYLIGHT
END:VTIMEZONE
BEGIN:VEVENT
UID:1c3f0b9f-7fbe-4fd6-a622-6dfcd4c4de9c
DTSTAMP:20260423T003856Z
DESCRIPTION:Rocky Mountain Development Council\, Inc. is offering a three-p
 art Homebuyer Education Class on November 16 - 18. The three sessions will
  run from 5:30-8:30 PM. To receive certification\, attendance of three ses
 sions is required.\n\nWHAT IS HOMEBUYER EDUCATION CLASS FOR?\nHomebuyer Ed
 ucation classes provide in-depth information on many aspects of homeowners
 hip including:\n- Budgeting\n- Finding a home\n- Choosing a lender/closing
  on a loan\n- Homeowner’s insurance\n- Home inspection & maintenance\n- En
 ergy savings\n\n* Please note that class registration is nonrefundable. Re
 gistration also requires a 60-minute intake/counseling appointment prior t
 o class. \n\n
DTSTART;TZID=America/Denver:20211116T173000
DTEND;TZID=America/Denver:20211118T203000
LOCATION:Virtual Event - A Zoom link will be emailed after registration.
SUMMARY:Rocky's Homebuyer Education Class - 3 Part
END:VEVENT
END:VCALENDAR
