BEGIN:VCALENDAR
VERSION:2.0
PRODID:-//www.rmdc.net//NONSGML kigkonsult.se iCalcreator 2.30.10//
CALSCALE:GREGORIAN
METHOD:PUBLISH
UID:ad29ee97-a722-4035-93dd-c8475aacb3c9
X-WR-CALDESC:
X-WR-RELCALID:43b47a995e4867ad0d3f9ae879ae94c3
X-WR-TIMEZONE:America/Denver
BEGIN:VTIMEZONE
TZID:America/Denver
BEGIN:STANDARD
TZNAME:MST
DTSTART:20211107T020000
TZOFFSETFROM:-0600
TZOFFSETTO:-0700
RDATE:20221106T020000
END:STANDARD
BEGIN:DAYLIGHT
TZNAME:MDT
DTSTART:20210314T020000
TZOFFSETFROM:-0700
TZOFFSETTO:-0600
RDATE:20220313T020000
RDATE:20230312T020000
END:DAYLIGHT
END:VTIMEZONE
BEGIN:VEVENT
UID:c86c2bfd-c62b-4041-beee-a4fa4d32ab21
DTSTAMP:20260422T231112Z
DESCRIPTION:
DTSTART;TZID=America/Denver:20211223T000000
DTEND;TZID=America/Denver:20211223T235900
LOCATION:
SUMMARY:CLOSED for Christmas Holiday
END:VEVENT
END:VCALENDAR
