BEGIN:VCALENDAR
VERSION:2.0
PRODID:-//www.rmdc.net//NONSGML kigkonsult.se iCalcreator 2.30.10//
CALSCALE:GREGORIAN
METHOD:PUBLISH
UID:5c255682-911d-4e8d-9d43-28bb7687b7b3
X-WR-CALDESC:
X-WR-RELCALID:a4b5f1f63cd645644652f7eb17eaca72
X-WR-TIMEZONE:America/Denver
BEGIN:VTIMEZONE
TZID:America/Denver
BEGIN:STANDARD
TZNAME:MST
DTSTART:20211107T020000
TZOFFSETFROM:-0600
TZOFFSETTO:-0700
RDATE:20221106T020000
END:STANDARD
BEGIN:DAYLIGHT
TZNAME:MDT
DTSTART:20210314T020000
TZOFFSETFROM:-0700
TZOFFSETTO:-0600
RDATE:20220313T020000
RDATE:20230312T020000
END:DAYLIGHT
END:VTIMEZONE
BEGIN:VEVENT
UID:6f37afab-927e-4f9e-b620-42350c978c34
DTSTAMP:20260422T225705Z
DESCRIPTION:
DTSTART;TZID=America/Denver:20211231T000000
DTEND;TZID=America/Denver:20211231T235900
LOCATION:
SUMMARY:CLOSED for New Year's Holiday
END:VEVENT
END:VCALENDAR
