BEGIN:VCALENDAR
VERSION:2.0
PRODID:-//www.rmdc.net//NONSGML kigkonsult.se iCalcreator 2.30.10//
CALSCALE:GREGORIAN
METHOD:PUBLISH
UID:0beee97f-696f-4229-ba59-baec0cfcecc0
X-WR-CALDESC:Rocky Mountain Development Council\, Inc. is offering a three-
 part Homebuyer Education Class on January 25\, 26\, and 27. The three sess
 ions will run from 5:30-8:30 PM. To receive certification\, attendance of 
 three sessions is required.\n\nWHAT IS HOMEBUYER EDUCATION CLASS FOR?\nHom
 ebuyer Education classes provide in-depth information on many aspects of h
 omeownership including:\n- Budgeting\n- Finding a home\n- Choosing a lende
 r/closing on a loan\n- Homeowner’s insurance\n- Home inspection & maintena
 nce\n- Energy savings\n\n* Please note that class registration is nonrefun
 dable. Registration also requires a 60-minute intake/counseling appointmen
 t prior to class. \n\n
X-WR-RELCALID:3019108397e74402fd01e9666070d781
X-WR-TIMEZONE:America/Denver
BEGIN:VTIMEZONE
TZID:America/Denver
BEGIN:STANDARD
TZNAME:MST
DTSTART:20211107T020000
TZOFFSETFROM:-0600
TZOFFSETTO:-0700
RDATE:20221106T020000
END:STANDARD
BEGIN:DAYLIGHT
TZNAME:MDT
DTSTART:20210314T020000
TZOFFSETFROM:-0700
TZOFFSETTO:-0600
RDATE:20220313T020000
RDATE:20230312T020000
END:DAYLIGHT
END:VTIMEZONE
BEGIN:VEVENT
UID:81343c62-65ab-482e-9427-4f8825c90373
DTSTAMP:20260422T230629Z
DESCRIPTION:Rocky Mountain Development Council\, Inc. is offering a three-p
 art Homebuyer Education Class on January 25\, 26\, and 27. The three sessi
 ons will run from 5:30-8:30 PM. To receive certification\, attendance of t
 hree sessions is required.\n\nWHAT IS HOMEBUYER EDUCATION CLASS FOR?\nHome
 buyer Education classes provide in-depth information on many aspects of ho
 meownership including:\n- Budgeting\n- Finding a home\n- Choosing a lender
 /closing on a loan\n- Homeowner’s insurance\n- Home inspection & maintenan
 ce\n- Energy savings\n\n* Please note that class registration is nonrefund
 able. Registration also requires a 60-minute intake/counseling appointment
  prior to class. \n\n
DTSTART;TZID=America/Denver:20220125T173000
DTEND;TZID=America/Denver:20220127T203000
LOCATION:Virtual Event - A Zoom link will be emailed after registration.
SUMMARY:Rocky's Homebuyer Education Class - 3 Part
END:VEVENT
END:VCALENDAR
