BEGIN:VCALENDAR
VERSION:2.0
PRODID:-//www.rmdc.net//NONSGML kigkonsult.se iCalcreator 2.30.10//
CALSCALE:GREGORIAN
METHOD:PUBLISH
UID:d11f9e75-c055-4980-a7f2-ba0cff916bdf
X-WR-CALDESC:
X-WR-RELCALID:c2496ea73dff0aa167068b484b5cc7e7
X-WR-TIMEZONE:America/Denver
BEGIN:VTIMEZONE
TZID:America/Denver
BEGIN:STANDARD
TZNAME:MST
DTSTART:20211107T020000
TZOFFSETFROM:-0600
TZOFFSETTO:-0700
RDATE:20221106T020000
END:STANDARD
BEGIN:DAYLIGHT
TZNAME:MDT
DTSTART:20210314T020000
TZOFFSETFROM:-0700
TZOFFSETTO:-0600
RDATE:20220313T020000
RDATE:20230312T020000
END:DAYLIGHT
END:VTIMEZONE
BEGIN:VEVENT
UID:d88ad03c-2d73-4e79-b8cd-8ebc095842a3
DTSTAMP:20260422T200850Z
DESCRIPTION:
DTSTART;TZID=America/Denver:20220208T123000
DTEND;TZID=America/Denver:20220208T143000
LOCATION:Helena Senior Center Parlor
SUMMARY:Hand and Foot
END:VEVENT
END:VCALENDAR
