BEGIN:VCALENDAR
VERSION:2.0
PRODID:-//www.rmdc.net//NONSGML kigkonsult.se iCalcreator 2.30.10//
CALSCALE:GREGORIAN
METHOD:PUBLISH
UID:4d251f40-ce6f-4e0c-9a41-a0ded077d870
X-WR-CALDESC:
X-WR-RELCALID:28034482baa9d94b0420a9d869b093e5
X-WR-TIMEZONE:America/Denver
BEGIN:VTIMEZONE
TZID:America/Denver
BEGIN:STANDARD
TZNAME:MST
DTSTART:20211107T020000
TZOFFSETFROM:-0600
TZOFFSETTO:-0700
RDATE:20221106T020000
END:STANDARD
BEGIN:DAYLIGHT
TZNAME:MDT
DTSTART:20210314T020000
TZOFFSETFROM:-0700
TZOFFSETTO:-0600
RDATE:20220313T020000
RDATE:20230312T020000
END:DAYLIGHT
END:VTIMEZONE
BEGIN:VEVENT
UID:9104a9df-2429-4194-a5a2-5523de7ee4cc
DTSTAMP:20260422T185501Z
DESCRIPTION:
DTSTART;TZID=America/Denver:20220309T120000
DTEND;TZID=America/Denver:20220309T130000
LOCATION:https://us06web.zoom.us/j/92257979620?pwd=Wmc1aFlrU2trU1hwMFo4UkNI
 cmxZQT09
SUMMARY:PopKnowledge! Presents 'Old Toys\, More than Just Fun!'
END:VEVENT
END:VCALENDAR
