BEGIN:VCALENDAR
VERSION:2.0
PRODID:-//www.rmdc.net//NONSGML kigkonsult.se iCalcreator 2.30.10//
CALSCALE:GREGORIAN
METHOD:PUBLISH
UID:7818ce6c-8d63-4b8c-adef-cf2a1a86c782
X-WR-CALDESC:
X-WR-RELCALID:8b9e8fabfe2e4de2e637d2788f37db77
X-WR-TIMEZONE:America/Denver
BEGIN:VTIMEZONE
TZID:America/Denver
BEGIN:STANDARD
TZNAME:MST
DTSTART:20211107T020000
TZOFFSETFROM:-0600
TZOFFSETTO:-0700
RDATE:20221106T020000
END:STANDARD
BEGIN:DAYLIGHT
TZNAME:MDT
DTSTART:20220313T020000
TZOFFSETFROM:-0700
TZOFFSETTO:-0600
RDATE:20230312T020000
END:DAYLIGHT
END:VTIMEZONE
BEGIN:VEVENT
UID:978d0bf9-e6af-4594-92ab-cf08593c0d56
DTSTAMP:20260422T183242Z
DESCRIPTION:
DTSTART;TZID=America/Denver:20220323T130000
DTEND;TZID=America/Denver:20220323T150000
LOCATION:Dining Room
SUMMARY:Bingo
END:VEVENT
END:VCALENDAR
