BEGIN:VCALENDAR
VERSION:2.0
PRODID:-//www.rmdc.net//NONSGML kigkonsult.se iCalcreator 2.30.10//
CALSCALE:GREGORIAN
METHOD:PUBLISH
UID:cebc9177-2028-4744-8d90-fe6ed9280ec7
X-WR-CALDESC:
X-WR-RELCALID:8bc1f7004747d91c51f7b39c4f1092d0
X-WR-TIMEZONE:America/Denver
BEGIN:VTIMEZONE
TZID:America/Denver
BEGIN:STANDARD
TZNAME:MST
DTSTART:20211107T020000
TZOFFSETFROM:-0600
TZOFFSETTO:-0700
RDATE:20221106T020000
RDATE:20231105T020000
END:STANDARD
BEGIN:DAYLIGHT
TZNAME:MDT
DTSTART:20220313T020000
TZOFFSETFROM:-0700
TZOFFSETTO:-0600
RDATE:20230312T020000
END:DAYLIGHT
END:VTIMEZONE
BEGIN:VEVENT
UID:529e4701-527e-4350-a8f7-99c9bc4bdc5d
DTSTAMP:20260422T144327Z
DESCRIPTION:
DTSTART;TZID=America/Denver:20220509T100000
DTEND;TZID=America/Denver:20220509T104500
LOCATION:Neighborhood Center Card Room
SUMMARY:Jeanie's Arthritis Foundation Exercise Class
END:VEVENT
END:VCALENDAR
